BEGIN:VCALENDAR
VERSION:2.0
PRODID:-//Rainbow Mensans - ECPv6.15.20//NONSGML v1.0//EN
CALSCALE:GREGORIAN
METHOD:PUBLISH
X-WR-CALNAME:Rainbow Mensans
X-ORIGINAL-URL:https://rainbowm.org
X-WR-CALDESC:Events for Rainbow Mensans
REFRESH-INTERVAL;VALUE=DURATION:PT1H
X-Robots-Tag:noindex
X-PUBLISHED-TTL:PT1H
BEGIN:VTIMEZONE
TZID:UTC
BEGIN:STANDARD
TZOFFSETFROM:+0000
TZOFFSETTO:+0000
TZNAME:UTC
DTSTART:20220101T000000
END:STANDARD
END:VTIMEZONE
BEGIN:VEVENT
DTSTART;VALUE=DATE:20230420
DTEND;VALUE=DATE:20230424
DTSTAMP:20260422T172633
CREATED:20230407T233408Z
LAST-MODIFIED:20230407T233408Z
UID:201-1681948800-1682294399@rainbowm.org
SUMMARY:Mind Games (National)
DESCRIPTION:Four-day board-game judging marathon. In Columbus\, OH. \nFor more information\, go to https://www.us.mensa.org/attend/mindgames
URL:https://rainbowm.org/event/mind-games-national/
END:VEVENT
END:VCALENDAR