BEGIN:VCALENDAR
VERSION:2.0
PRODID:-//Rainbow Mensans - ECPv6.15.20//NONSGML v1.0//EN
CALSCALE:GREGORIAN
METHOD:PUBLISH
X-ORIGINAL-URL:https://rainbowm.org
X-WR-CALDESC:Events for Rainbow Mensans
REFRESH-INTERVAL;VALUE=DURATION:PT1H
X-Robots-Tag:noindex
X-PUBLISHED-TTL:PT1H
BEGIN:VTIMEZONE
TZID:UTC
BEGIN:STANDARD
TZOFFSETFROM:+0000
TZOFFSETTO:+0000
TZNAME:UTC
DTSTART:20220101T000000
END:STANDARD
END:VTIMEZONE
BEGIN:VEVENT
DTSTART;TZID=UTC:20230625T100000
DTEND;TZID=UTC:20230625T170000
DTSTAMP:20260422T172656
CREATED:20230408T003429Z
LAST-MODIFIED:20230408T003429Z
UID:205-1687687200-1687712400@rainbowm.org
SUMMARY:Chicago Annual Pride Parade and Luncheon
DESCRIPTION:Rainbow Mensans sponsor a contingent in the Chicago Annual Pride Parade and Luncheon. For more information or to participate\, go to parade@chicago.us.mensa.org.
URL:https://rainbowm.org/event/chicago-annual-pride-parade-and-luncheon/
END:VEVENT
END:VCALENDAR