BEGIN:VCALENDAR
VERSION:2.0
PRODID:-//Rainbow Mensans - ECPv6.15.20//NONSGML v1.0//EN
CALSCALE:GREGORIAN
METHOD:PUBLISH
X-WR-CALNAME:Rainbow Mensans
X-ORIGINAL-URL:https://rainbowm.org
X-WR-CALDESC:Events for Rainbow Mensans
REFRESH-INTERVAL;VALUE=DURATION:PT1H
X-Robots-Tag:noindex
X-PUBLISHED-TTL:PT1H
BEGIN:VTIMEZONE
TZID:UTC
BEGIN:STANDARD
TZOFFSETFROM:+0000
TZOFFSETTO:+0000
TZNAME:UTC
DTSTART:20220101T000000
END:STANDARD
END:VTIMEZONE
BEGIN:VEVENT
DTSTART;VALUE=DATE:20230705
DTEND;VALUE=DATE:20230710
DTSTAMP:20260422T131927
CREATED:20230408T003857Z
LAST-MODIFIED:20230408T003857Z
UID:209-1688515200-1688947199@rainbowm.org
SUMMARY:National Convention
DESCRIPTION:To be held in Baltimore\, MD \nFor more information\, go to https://www.ag.us.mensa.org \nOpen to the Public
URL:https://rainbowm.org/event/national-convention/
END:VEVENT
END:VCALENDAR