BEGIN:VCALENDAR
VERSION:2.0
PRODID:-//Rainbow Mensans - ECPv6.15.20//NONSGML v1.0//EN
CALSCALE:GREGORIAN
METHOD:PUBLISH
X-WR-CALNAME:Rainbow Mensans
X-ORIGINAL-URL:https://rainbowm.org
X-WR-CALDESC:Events for Rainbow Mensans
REFRESH-INTERVAL;VALUE=DURATION:PT1H
X-Robots-Tag:noindex
X-PUBLISHED-TTL:PT1H
BEGIN:VTIMEZONE
TZID:UTC
BEGIN:STANDARD
TZOFFSETFROM:+0000
TZOFFSETTO:+0000
TZNAME:UTC
DTSTART:20220101T000000
END:STANDARD
END:VTIMEZONE
BEGIN:VEVENT
DTSTART;TZID=UTC:20230716T173000
DTEND;TZID=UTC:20230716T173000
DTSTAMP:20260422T132407
CREATED:20230408T004004Z
LAST-MODIFIED:20230408T004004Z
UID:211-1689528600-1689528600@rainbowm.org
SUMMARY:Boating in Fox Lake
DESCRIPTION:
URL:https://rainbowm.org/event/boating-in-fox-lake/
END:VEVENT
END:VCALENDAR