BEGIN:VCALENDAR
VERSION:2.0
PRODID:-//Rainbow Mensans - ECPv6.15.20//NONSGML v1.0//EN
CALSCALE:GREGORIAN
METHOD:PUBLISH
X-WR-CALNAME:Rainbow Mensans
X-ORIGINAL-URL:https://rainbowm.org
X-WR-CALDESC:Events for Rainbow Mensans
REFRESH-INTERVAL;VALUE=DURATION:PT1H
X-Robots-Tag:noindex
X-PUBLISHED-TTL:PT1H
BEGIN:VTIMEZONE
TZID:America/Chicago
BEGIN:DAYLIGHT
TZOFFSETFROM:-0600
TZOFFSETTO:-0500
TZNAME:CDT
DTSTART:20220313T080000
END:DAYLIGHT
BEGIN:STANDARD
TZOFFSETFROM:-0500
TZOFFSETTO:-0600
TZNAME:CST
DTSTART:20221106T070000
END:STANDARD
BEGIN:DAYLIGHT
TZOFFSETFROM:-0600
TZOFFSETTO:-0500
TZNAME:CDT
DTSTART:20230312T080000
END:DAYLIGHT
BEGIN:STANDARD
TZOFFSETFROM:-0500
TZOFFSETTO:-0600
TZNAME:CST
DTSTART:20231105T070000
END:STANDARD
BEGIN:DAYLIGHT
TZOFFSETFROM:-0600
TZOFFSETTO:-0500
TZNAME:CDT
DTSTART:20240310T080000
END:DAYLIGHT
BEGIN:STANDARD
TZOFFSETFROM:-0500
TZOFFSETTO:-0600
TZNAME:CST
DTSTART:20241103T070000
END:STANDARD
END:VTIMEZONE
BEGIN:VEVENT
DTSTART;VALUE=DATE:20231001
DTEND;VALUE=DATE:20240101
DTSTAMP:20260420T194234
CREATED:20231010T145433Z
LAST-MODIFIED:20231010T145433Z
UID:606-1696118400-1704067199@rainbowm.org
SUMMARY:Annual Rainbow SIG appeal for the benefit of Rainbow Railroad
DESCRIPTION:Contact rainbow@chicago.us.mensa.org.
URL:https://rainbowm.org/event/annual-rainbow-sig-appeal-for-the-benefit-of-rainbow-railroad/
END:VEVENT
BEGIN:VEVENT
DTSTART;TZID=America/Chicago:20231216T160000
DTEND;TZID=America/Chicago:20231216T160000
DTSTAMP:20260420T194234
CREATED:20231010T150542Z
LAST-MODIFIED:20231010T150542Z
UID:614-1702742400-1702742400@rainbowm.org
SUMMARY:Rainbow SIG Trivia Contest
DESCRIPTION:Rainbow SIG Trivia Contest (Location TBD) in Chicago starting at 4:00 pm. \nContact rainbow@chicago.us.mensa.org  (Open to the Public)
URL:https://rainbowm.org/event/rainbow-sig-trivia-contest/
END:VEVENT
END:VCALENDAR