BEGIN:VCALENDAR
VERSION:2.0
PRODID:-//Rainbow Mensans - ECPv6.15.20//NONSGML v1.0//EN
CALSCALE:GREGORIAN
METHOD:PUBLISH
X-WR-CALNAME:Rainbow Mensans
X-ORIGINAL-URL:https://rainbowm.org
X-WR-CALDESC:Events for Rainbow Mensans
REFRESH-INTERVAL;VALUE=DURATION:PT1H
X-Robots-Tag:noindex
X-PUBLISHED-TTL:PT1H
BEGIN:VTIMEZONE
TZID:America/Chicago
BEGIN:DAYLIGHT
TZOFFSETFROM:-0600
TZOFFSETTO:-0500
TZNAME:CDT
DTSTART:20230312T080000
END:DAYLIGHT
BEGIN:STANDARD
TZOFFSETFROM:-0500
TZOFFSETTO:-0600
TZNAME:CST
DTSTART:20231105T070000
END:STANDARD
BEGIN:DAYLIGHT
TZOFFSETFROM:-0600
TZOFFSETTO:-0500
TZNAME:CDT
DTSTART:20240310T080000
END:DAYLIGHT
BEGIN:STANDARD
TZOFFSETFROM:-0500
TZOFFSETTO:-0600
TZNAME:CST
DTSTART:20241103T070000
END:STANDARD
BEGIN:DAYLIGHT
TZOFFSETFROM:-0600
TZOFFSETTO:-0500
TZNAME:CDT
DTSTART:20250309T080000
END:DAYLIGHT
BEGIN:STANDARD
TZOFFSETFROM:-0500
TZOFFSETTO:-0600
TZNAME:CST
DTSTART:20251102T070000
END:STANDARD
END:VTIMEZONE
BEGIN:VEVENT
DTSTART;VALUE=DATE:20240331
DTEND;VALUE=DATE:20240401
DTSTAMP:20260420T131605
CREATED:20231010T155021Z
LAST-MODIFIED:20231010T155203Z
UID:635-1711843200-1711929599@rainbowm.org
SUMMARY:CultureQuest® (Date TBD)
DESCRIPTION:A nationwide trivia-type contest to test cultural literacy.  Sponsored by American MENSA.  (Mensa membership required.) \nDeadline to register is 3/31. \nCultureQuest® (mensa.org)
URL:https://rainbowm.org/event/culturequest/
END:VEVENT
END:VCALENDAR