BEGIN:VCALENDAR
VERSION:2.0
PRODID:-//Rainbow Mensans - ECPv6.15.20//NONSGML v1.0//EN
CALSCALE:GREGORIAN
METHOD:PUBLISH
X-WR-CALNAME:Rainbow Mensans
X-ORIGINAL-URL:https://rainbowm.org
X-WR-CALDESC:Events for Rainbow Mensans
REFRESH-INTERVAL;VALUE=DURATION:PT1H
X-Robots-Tag:noindex
X-PUBLISHED-TTL:PT1H
BEGIN:VTIMEZONE
TZID:America/Chicago
BEGIN:DAYLIGHT
TZOFFSETFROM:-0600
TZOFFSETTO:-0500
TZNAME:CDT
DTSTART:20240310T080000
END:DAYLIGHT
BEGIN:STANDARD
TZOFFSETFROM:-0500
TZOFFSETTO:-0600
TZNAME:CST
DTSTART:20241103T070000
END:STANDARD
BEGIN:DAYLIGHT
TZOFFSETFROM:-0600
TZOFFSETTO:-0500
TZNAME:CDT
DTSTART:20250309T080000
END:DAYLIGHT
BEGIN:STANDARD
TZOFFSETFROM:-0500
TZOFFSETTO:-0600
TZNAME:CST
DTSTART:20251102T070000
END:STANDARD
BEGIN:DAYLIGHT
TZOFFSETFROM:-0600
TZOFFSETTO:-0500
TZNAME:CDT
DTSTART:20260308T080000
END:DAYLIGHT
BEGIN:STANDARD
TZOFFSETFROM:-0500
TZOFFSETTO:-0600
TZNAME:CST
DTSTART:20261101T070000
END:STANDARD
END:VTIMEZONE
BEGIN:VEVENT
DTSTART;TZID=America/Chicago:20250104T080000
DTEND;TZID=America/Chicago:20250104T170000
DTSTAMP:20260420T222757
CREATED:20240817T204947Z
LAST-MODIFIED:20240817T204947Z
UID:776-1735977600-1736010000@rainbowm.org
SUMMARY:Larry Lesperance and Tom Nickel
DESCRIPTION:Larry Lesperance and Tom Nickel host. Potluck. Limited\nSeating. Starting at 5:30—subject to change. To sign up\,\ncontact rainbow@chicago.us.mensa.org by Thursday\,\nJanuary 2\, 025.
URL:https://rainbowm.org/event/larry-lesperance-and-tom-nickel/
END:VEVENT
BEGIN:VEVENT
DTSTART;TZID=America/Chicago:20250419T173000
DTEND;TZID=America/Chicago:20250419T220000
DTSTAMP:20260420T222757
CREATED:20240817T205046Z
LAST-MODIFIED:20240817T205046Z
UID:778-1745083800-1745100000@rainbowm.org
SUMMARY:Quarterly dinner
DESCRIPTION:Quarterly dinner at All Meal Prep\, 1100 W Bryn Mawr\nAve\, Chicago\, IL starting at 5:30 pm. RSVP to\nrainbow@chicago.us.mensa.org by Thursday\, April 17\,\n2025 so that we can save a seat for you. Self-pay.
URL:https://rainbowm.org/event/quarterly-dinner/
END:VEVENT
BEGIN:VEVENT
DTSTART;TZID=America/Chicago:20250629T100000
DTEND;TZID=America/Chicago:20250629T170000
DTSTAMP:20260420T222757
CREATED:20240817T205153Z
LAST-MODIFIED:20240817T205153Z
UID:780-1751191200-1751216400@rainbowm.org
SUMMARY:Chicago Annual Pride Parade and Luncheon
DESCRIPTION:Chicago Annual Pride Parade and Luncheon with lineup\nstarting at 10:00 am. A concerted effort will be made to\ninvite and welcome conventioneers attending the\nfollowing week AG to our contingent and luncheon.\nThere is a limit of 100 for the parade and 50 for the\nluncheon. Reply to parade@chicago.us.mensa.org.
URL:https://rainbowm.org/event/chicago-annual-pride-parade-and-luncheon-2/
END:VEVENT
BEGIN:VEVENT
DTSTART;TZID=America/Chicago:20250702T080000
DTEND;TZID=America/Chicago:20250706T170000
DTSTAMP:20260420T222757
CREATED:20240817T205317Z
LAST-MODIFIED:20240817T205317Z
UID:782-1751443200-1751821200@rainbowm.org
SUMMARY:Annual Gathering
DESCRIPTION:Annual Gathering to be held in Chicago\, IL. For more\ndetails\, use the following link: \nAnnual Gatherings (mensa.org)\nKaren Gruebele and Allison Reeves\, co-chairs of the AG\,\nare members of our SIG.
URL:https://rainbowm.org/event/annual-gathering-2/
END:VEVENT
BEGIN:VEVENT
DTSTART;TZID=America/Chicago:20250719T173000
DTEND;TZID=America/Chicago:20250719T220000
DTSTAMP:20260420T222757
CREATED:20240817T205531Z
LAST-MODIFIED:20240817T205531Z
UID:784-1752946200-1752962400@rainbowm.org
SUMMARY:Dale Woods and Jim Cundiff
DESCRIPTION:Dale Woods and Jim Cundiff host the quarterly meal\, a potluck\, at 5415 N Sheridan Road\, #3811-3810\, Chicago\, IL 60640 starting at 5:30. \nPlease rsvp to rainbow@chicago.us.mensa.org by Thursday\, July 17\,\n2025. More details will be forthcoming.
URL:https://rainbowm.org/event/dale-woods-and-jim-cundiff/
END:VEVENT
END:VCALENDAR